BEGIN:VCALENDAR
VERSION:2.0
PRODID:-//IP.Board Calendar 4.2.9//EN
METHOD:PUBLISH
CALSCALE:GREGORIAN
X-WR-CALNAME:Main
BEGIN:VTIMEZONE
TZID:Europe/London
TZURL:http://tzurl.org/zoneinfo/Europe/London
X-LIC-LOCATION:Europe/London
BEGIN:DAYLIGHT
TZOFFSETFROM:+0000
TZOFFSETTO:+0100
TZNAME:BST
DTSTART:20140330T020000Z
RRULE:FREQ=YEARLY;BYMONTH=3;BYDAY=-1SU
END:DAYLIGHT
BEGIN:STANDARD
TZOFFSETFROM:+0100
TZOFFSETTO:+0000
TZNAME:GMT
DTSTART:20141026T020000Z
RRULE:FREQ=YEARLY;BYMONTH=10;BYDAY=-1SU
END:STANDARD
END:VTIMEZONE
BEGIN:VEVENT
SUMMARY:7th Interational Trackday of Alfisti.gr
DTSTAMP:20140111T175616Z
SEQUENCE:1
UID:18-1-86020740e42191d4415c98dd52a90bcd@www.squadra916.com
ORGANIZER;CN="Thanos":info@squadra916.com
DESCRIPTION:\n7th Interational Trackday of Alfisti.gr at Serres Racing C
	ircuit - Greece\n
DTSTART;VALUE=DATE:20140404
DTEND;VALUE=DATE:20140406
END:VEVENT
END:VCALENDAR
