BEGIN:VCALENDAR
VERSION:2.0
PRODID:-//IP.Board Calendar 4.2.9//EN
METHOD:PUBLISH
CALSCALE:GREGORIAN
X-WR-CALNAME:Main
BEGIN:VTIMEZONE
TZID:Europe/London
TZURL:http://tzurl.org/zoneinfo/Europe/London
X-LIC-LOCATION:Europe/London
BEGIN:DAYLIGHT
TZOFFSETFROM:+0000
TZOFFSETTO:+0100
TZNAME:BST
DTSTART:20130331T020000Z
RRULE:FREQ=YEARLY;BYMONTH=3;BYDAY=-1SU
END:DAYLIGHT
BEGIN:STANDARD
TZOFFSETFROM:+0100
TZOFFSETTO:+0000
TZNAME:GMT
DTSTART:20131027T020000Z
RRULE:FREQ=YEARLY;BYMONTH=10;BYDAY=-1SU
END:STANDARD
END:VTIMEZONE
BEGIN:VEVENT
SUMMARY:50° Autodelta Anniversary - Feletto Umberto (UD) I
DTSTAMP:20130619T222811Z
SEQUENCE:0
UID:15-1-86020740e42191d4415c98dd52a90bcd@www.squadra916.com
ORGANIZER;CN="invader89":info@squadra916.com
DESCRIPTION:\nHello\,these are links to an interesting rally commemorati
	ng the 50th anniversary of the 'Autodelta' in Friuli Venezia Giulia\, the 
	birthplace of this prestigious company.The event will take place on 29 Jun
	e 2013.I hope to meet you to commemorate the myth of the 'Autodelta'.The p
	rogram in English:https://docs.google.com/file/d/0BwVv2603f29hX3k2aWxaN2ox
	eW8/edit?usp=sharingLink to our forum:http://stilealfaromeo.forumfree.it/?
	t=66094376&amp\;st=15#entry536871752For more information:stilealfaromeo@gm
	ail.comHotels in the area:HOTEL AL PICARON Ristorante Via Sant’Andrat n.
	 3\, Tel. 0432940688 – www.alpicaron.it – info@alpicaron.itPeriodo di 
	apertura: SempreALBERGO AI SAPORI Viale Venezia S.S. 463 n. 57/b\, Tel. 04
	32940671 - www.aisapori.eu - albergo@aisapori.euPeriodo di apertura: Sempr
	e\n
DTSTART;VALUE=DATE:20130629
END:VEVENT
END:VCALENDAR
