BEGIN:VCALENDAR
VERSION:2.0
PRODID:-//IP.Board Calendar 4.2.9//EN
METHOD:PUBLISH
CALSCALE:GREGORIAN
X-WR-CALNAME:Main
BEGIN:VTIMEZONE
TZID:Europe/London
TZURL:http://tzurl.org/zoneinfo/Europe/London
X-LIC-LOCATION:Europe/London
BEGIN:DAYLIGHT
TZOFFSETFROM:+0000
TZOFFSETTO:+0100
TZNAME:BST
DTSTART:20130331T020000Z
RRULE:FREQ=YEARLY;BYMONTH=3;BYDAY=-1SU
END:DAYLIGHT
BEGIN:STANDARD
TZOFFSETFROM:+0100
TZOFFSETTO:+0000
TZNAME:GMT
DTSTART:20131027T020000Z
RRULE:FREQ=YEARLY;BYMONTH=10;BYDAY=-1SU
END:STANDARD
END:VTIMEZONE
BEGIN:VEVENT
SUMMARY:Squadra916 Birthday
DTSTAMP:20130425T084604Z
SEQUENCE:0
UID:13-1-86020740e42191d4415c98dd52a90bcd@www.squadra916.com
ORGANIZER;CN="charlee":info@squadra916.com
DESCRIPTION:\nSquadra916 was created on this date in 2012.  \n
DTSTART;VALUE=DATE:20130225
RRULE:FREQ=yearly;INTERVAL=1;UNTIL=20250226T00000Z
END:VEVENT
END:VCALENDAR
